BEGIN:VCALENDAR
VERSION:2.0
PRODID:-//wp-events-plugin.com//7.2.3.1//EN
BEGIN:VEVENT
UID:4@asanteman.co.uk
DTSTART:20241008T141500Z
DTEND:20241009T171500Z
DTSTAMP:20241108T004934Z
URL:https://www.asanteman.co.uk/events/party-event/
SUMMARY:Party Event
DESCRIPTION:The choice of partying
ATTACH;FMTTYPE=image/jpeg:https://www.asanteman.co.uk/wp-content/uploads/2
 024/07/june23.jpeg
CATEGORIES:UK
END:VEVENT
BEGIN:VEVENT
UID:2@asanteman.co.uk
DTSTART:20241010T190000Z
DTEND:20241010T224500Z
DTSTAMP:20241107T222734Z
URL:https://www.asanteman.co.uk/events/charity-fundraising/
SUMMARY:Charity Fundraising
DESCRIPTION:
ATTACH;FMTTYPE=image/jpeg:https://www.asanteman.co.uk/wp-content/uploads/2
 024/06/fundraise2.jpeg
CATEGORIES:UK
LOCATION:London\, 106 Sterling way\, Edmonton\, IT or Technical Manager\, N
 18 1QU\, United Kingdom
X-APPLE-STRUCTURED-LOCATION;VALUE=URI;X-ADDRESS=106 Sterling way\, Edmonton
 \, IT or Technical Manager\, N18 1QU\, United Kingdom;X-APPLE-RADIUS=100;X
 -TITLE=London:geo:0,0
END:VEVENT
BEGIN:VEVENT
UID:3@asanteman.co.uk
DTSTART:20241012T124500Z
DTEND:20241012T144500Z
DTSTAMP:20241107T223039Z
URL:https://www.asanteman.co.uk/events/fundraising/
SUMMARY:Fundraising
DESCRIPTION:
ATTACH;FMTTYPE=image/jpeg:https://www.asanteman.co.uk/wp-content/uploads/2
 024/07/grand-durber-24.jpeg
CATEGORIES:UK
LOCATION:106 sterling way\, 106 Sterling way\, Edmonton\, IT or Technical M
 anager\, N18 1QU\, United Kingdom
X-APPLE-STRUCTURED-LOCATION;VALUE=URI;X-ADDRESS=106 Sterling way\, Edmonton
 \, IT or Technical Manager\, N18 1QU\, United Kingdom;X-APPLE-RADIUS=100;X
 -TITLE=106 sterling way:geo:0,0
END:VEVENT
BEGIN:VEVENT
UID:1@asanteman.co.uk
DTSTART;TZID=Europe/London;VALUE=DATE:20241103
DTEND;TZID=Europe/London;VALUE=DATE:20241109
DTSTAMP:20241103T024224Z
URL:https://www.asanteman.co.uk/events/durbar/
SUMMARY:Durbar
DESCRIPTION:
ATTACH;FMTTYPE=image/jpeg:https://www.asanteman.co.uk/wp-content/uploads/2
 024/07/grand-durber-24.jpeg
CATEGORIES:UK
LOCATION:London\, 106 Sterling way\, Edmonton\, IT or Technical Manager\, N
 18 1QU\, United Kingdom
X-APPLE-STRUCTURED-LOCATION;VALUE=URI;X-ADDRESS=106 Sterling way\, Edmonton
 \, IT or Technical Manager\, N18 1QU\, United Kingdom;X-APPLE-RADIUS=100;X
 -TITLE=London:geo:0,0
END:VEVENT
BEGIN:VTIMEZONE
TZID:Europe/London
X-LIC-LOCATION:Europe/London
BEGIN:STANDARD
DTSTART:20241027T010000
TZOFFSETFROM:+0100
TZOFFSETTO:+0000
TZNAME:GMT
END:STANDARD
END:VTIMEZONE
END:VCALENDAR